BEGIN:VCALENDAR
PRODID:-//eluceo/ical//2.0/EN
VERSION:2.0
CALSCALE:GREGORIAN
BEGIN:VEVENT
UID:27215fe9f90bfe553673fc9ccdf494b0
DTSTAMP:20260421T100230Z
SUMMARY:BB Camp's High Holidays in the Park
DESCRIPTION:Jewish Federation of Greater Portland\nCommunity Calendar\nhttp
 s://jewishportland.org/community-calendar/bb-camps-high-holidays-in-the-pa
 rk\n\nHigh Holidays in the Park\nOctober 1\, 2023\, 1-3 PM\nGabriel Park\n
 For families with Children K-5th Grade\n\nCelebrate the High Holidays with
  BB Camp on October 1st at Gabriel Park (find us at the picnic tables.) We
 ’ll have holiday-themed art projects\, stories\, snacks\, and activities
  to celebrate Rosh Hashana\, Yom Kippur\, and Sukkot in BB Camp Style. Bri
 ng your whole family and reconnect with your summer friends! \n\nQuestion
 s? Contact aevonuk@bbcamp.org\n\nREGISTER AT https://bbcamp.org/hh...
DTSTART;TZID=America/Los_Angeles:20231001T130000
DTEND;TZID=America/Los_Angeles:20231001T150000
END:VEVENT
END:VCALENDAR
