BEGIN:VCALENDAR
PRODID:-//eluceo/ical//2.0/EN
VERSION:2.0
CALSCALE:GREGORIAN
BEGIN:VEVENT
UID:c875ecb5d62249cb2fb4d715e64d25af
DTSTAMP:20260425T031751Z
SUMMARY:BB Camp's Central Coast Community Seder
DESCRIPTION:Jewish Federation of Greater Portland\nCommunity Calendar\nhttp
 s://jewishportland.org/community-calendar/bb-camps-central-coast-community
 -seder23\n\nJoin us at BB Camp for a Community Seder!\nApril 11\, 5PM\n\nI
 n the true spirit of Passover\, our doors are open to all. BB Camp staff w
 ill lead the Seder with Passover activities and traditions. Please join us
  for an evening of reflection and celebration. Kid friendly!\n$18/person\n
 \nRegister at bbcamp.org/seder\nQuestions? Contact slebenzonn@bbcamp.org\
 n\nCo-Sponsored by Jewish Federation of Greater Portland and PJ Library in
  Oregon
DTSTART;TZID=America/Los_Angeles:20230411T000000
DTEND;TZID=America/Los_Angeles:20230411T235959
END:VEVENT
END:VCALENDAR
