BEGIN:VCALENDAR
PRODID:-//eluceo/ical//2.0/EN
VERSION:2.0
CALSCALE:GREGORIAN
BEGIN:VEVENT
UID:942d7ec450d6a2a4906eae819b231787
DTSTAMP:20260423T091057Z
SUMMARY:BB Camp Summer Shabbaton
DESCRIPTION:Jewish Federation of Greater Portland\nCommunity Calendar\nhttp
 s://jewishportland.org/community-calendar/bb-camp-summer-shabbaton\n\nShab
 baton Weekend at BB Camp\n\nSummer Shabbaton Weekend – August 11 – 13\
 , 2023\n\nAges: Rising Kindergarten through Sixth Grade\nPrice: $360 for
  Spring | $200 for Summer\n\nREGISTER AT https://bbcamp.org/SHABBATON/\n\
 nDiscover the magic of overnight camp with a Shabbaton weekend experience!
  Our day campers will have the opportunity to enjoy a full range of activi
 ties\, including swimming\, boating\, campfires\, and s’mores. Join us f
 or a fun-filled weekend of Israeli dancing\, delicious ...
DTSTART;TZID=America/Los_Angeles:20230811T000000
DTEND;TZID=America/Los_Angeles:20230813T235959
END:VEVENT
END:VCALENDAR
