BEGIN:VCALENDAR
PRODID:-//eluceo/ical//2.0/EN
VERSION:2.0
CALSCALE:GREGORIAN
BEGIN:VEVENT
UID:a8c8aacc69347c0f3ed36fc86158a75d
DTSTAMP:20260426T030842Z
SUMMARY:BB CAMP SPRING SHABBATON
DESCRIPTION:Jewish Federation of Greater Portland\nCommunity Calendar\nhttp
 s://jewishportland.org/community-calendar/bb-camp-spring-shabbaton\n\nShab
 baton Weekend at BB Camp\n\nSpring Shabbaton Weekend – March 31 – Apri
 l 2\, 2023\n\nAges: Rising Kindergarten through Sixth Grade\nPrice: $360
  for Spring | $200 for Summer\n\nREGISTER AT https://bbcamp.org/SHABBATON
 /\n\nDiscover the magic of overnight camp with a Shabbaton weekend experie
 nce! Our day campers will have the opportunity to enjoy a full range of ac
 tivities\, including swimming\, boating\, campfires\, and s’mores. Join 
 us for a fun-filled weekend of Israeli dancing\, delici...
DTSTART;TZID=America/Los_Angeles:20230402T000000
DTEND;TZID=America/Los_Angeles:20230402T235959
END:VEVENT
END:VCALENDAR
