BEGIN:VCALENDAR
PRODID:-//eluceo/ical//2.0/EN
VERSION:2.0
CALSCALE:GREGORIAN
BEGIN:VEVENT
UID:5b3def66f301bbf8412988bdecf9e4a1
DTSTAMP:20260420T064835Z
SUMMARY:Art\, Heart\, & Soul: A Sip & Sketch Art Workshop
DESCRIPTION:Jewish Federation of Greater Portland\nCommunity Calendar\nhttp
 s://jewishportland.org/community-calendar/art-heart-soul-a-sip--sketch-art
 -workshop\n\nCome drink wine with friends old and new\, play with simple\,
  incremental drawing techniques\, hear and tell stories about gifts\, whil
 e creating an original Chanukah present! Guided by artist Cassandra Sagan\
 , this workshop is for complete newbies\, lifetime artsy types\, and every
 one in between! Click here to register.
DTSTART;TZID=America/Los_Angeles:20231130T190000
DTEND;TZID=America/Los_Angeles:20231130T210000
END:VEVENT
END:VCALENDAR
