BEGIN:VCALENDAR
PRODID:-//eluceo/ical//2.0/EN
VERSION:2.0
CALSCALE:GREGORIAN
BEGIN:VEVENT
UID:a3c77f8f0e182bc116d7efa45b18e127
DTSTAMP:20260425T144626Z
SUMMARY:Annual Meeting\, Cedar Sinai Park
DESCRIPTION:Jewish Federation of Greater Portland\nCommunity Calendar\nhttp
 s://jewishportland.org/community-calendar/annual-meeting-1675379916\n\nCed
 ar Sinai Park Annual Meeting
DTSTART;TZID=America/Los_Angeles:20230629T183000
DTEND;TZID=America/Los_Angeles:20230629T203000
END:VEVENT
END:VCALENDAR
