BEGIN:VCALENDAR
PRODID:-//eluceo/ical//2.0/EN
VERSION:2.0
CALSCALE:GREGORIAN
BEGIN:VEVENT
UID:7a08b69e79f24a91c47c3a1ee6c134c8
DTSTAMP:20260422T155800Z
SUMMARY:Alliance for Jewish Theatre Free Zoom Event
DESCRIPTION:Jewish Federation of Greater Portland\nCommunity Calendar\nhttp
 s://jewishportland.org/community-calendar/alliance-for-jewish-theatre-free
 -zoom-event-1698778925\n\nZoom event with prerecorded performances and liv
 e conversations. Theodore Bikel Award to Alex Edelman and the Soloway Sibl
 ings\, performance by theatre dybbuk\, live community conversations and mo
 re to support the Alliance for Jewish Theatre.
DTSTART;TZID=America/Los_Angeles:20231105T100000
DTEND;TZID=America/Los_Angeles:20231105T140000
END:VEVENT
END:VCALENDAR
