BEGIN:VCALENDAR
PRODID:-//eluceo/ical//2.0/EN
VERSION:2.0
CALSCALE:GREGORIAN
BEGIN:VEVENT
UID:cd1f6b6b436cda670830d60c30e221a0
DTSTAMP:20260422T082514Z
SUMMARY:All are Welcome - Yom Kippur at Kesser Israel
DESCRIPTION:Jewish Federation of Greater Portland\nCommunity Calendar\nhttp
 s://jewishportland.org/community-calendar/all-are-welcome---yom-kippur-at-
 kesser-israel-1691534368\n\nOur Yom Kippur services are open to all.  He
 re is our schedule for the day:\n\n8:00 am - Shacharit\n\n4:45 pm - Min
 cha\n\n6:00 pm - Nei&#39\;la\n\n7:35 pm - Maariv\n\n7:46 pm - Fast Ends
DTSTART;TZID=America/Los_Angeles:20230925T000000
DTEND;TZID=America/Los_Angeles:20230925T235900
END:VEVENT
END:VCALENDAR
