BEGIN:VCALENDAR
PRODID:-//eluceo/ical//2.0/EN
VERSION:2.0
CALSCALE:GREGORIAN
BEGIN:VEVENT
UID:627c6d9c938f3d0234770800d2036322
DTSTAMP:20260422T023929Z
SUMMARY:All are Welcome - Erev Yom Kippur at Kesser Israel
DESCRIPTION:Jewish Federation of Greater Portland\nCommunity Calendar\nhttp
 s://jewishportland.org/community-calendar/all-are-welcome---erev-yom-kippu
 r-at-kesser-israel-1691534157\n\nOur Yom Kippur services are open to all.
   Here is our schedule for the day:\n\n7:40 am - Selichot & Shacharit\n\
 n4:45 pm - Mincha\n\n6:50 pm - Kol Nidre & Maariv\n\n7:04 pm - Fast Begin
 s
DTSTART;TZID=America/Los_Angeles:20230924T000000
DTEND;TZID=America/Los_Angeles:20230924T235500
END:VEVENT
END:VCALENDAR
