BEGIN:VCALENDAR
PRODID:-//eluceo/ical//2.0/EN
VERSION:2.0
CALSCALE:GREGORIAN
BEGIN:VEVENT
UID:f9321f953b1ad40aef6dbd5039746041
DTSTAMP:20260422T155910Z
SUMMARY:Alicia Jo Rabins & The Camas High School Choir
DESCRIPTION:Jewish Federation of Greater Portland\nCommunity Calendar\nhttp
 s://jewishportland.org/community-calendar/alicia-jo-rabins--the-camas-high
 -school-choir-1711480228\n\nAlicia Jo Rabins joins 135 students from the C
 amas High School Choir\, a Third Angle string trio\, and a rock band for a
 n intergenerational\, intercultural\, and interdisciplinary concert that d
 raws from a rich palette of musical traditions including orchestral indie 
 rock\, Appalachian folk\, and diasporic Jewish modalities.  A performance 
 by Nick Delffs from The Shaky Hands will kick off the event.
DTSTART;TZID=America/Los_Angeles:20240411T193000
DTEND;TZID=America/Los_Angeles:20240411T213000
END:VEVENT
END:VCALENDAR
