BEGIN:VCALENDAR
PRODID:-//eluceo/ical//2.0/EN
VERSION:2.0
CALSCALE:GREGORIAN
BEGIN:VEVENT
UID:41ef2058b6f6f74878a88820cb057289
DTSTAMP:20260422T082518Z
SUMMARY:Shanah: A Whole Family Rosh Hashanah Exploration at Neveh Shalom
DESCRIPTION:Jewish Federation of Greater Portland\nCommunity Calendar\nhttp
 s://jewishportland.org/community-calendar/a-whole-family-rosh-hashanah-exp
 loration-at-neveh-shalom\n\nFor families with kids ages 0-12. Festivities 
 will begin upstairs in Stampfer Chapel before moving to Birnbach Hall. \n
 \nJoin us on the second day of Rosh Hashanah as we celebrate the Birthday 
 of the World! Hear the shofar\, make and taste freshly pressed apple cider
 \, experience Tashlich (symbolic reflection on our missteps over the past 
 year)\, family-friendly hiking\, and more fun! Bring your own container fo
 r cider if you’d like to take some home! 
DTSTART;TZID=America/Los_Angeles:20230917T100000
DTEND;TZID=America/Los_Angeles:20230917T120000
END:VEVENT
END:VCALENDAR
