BEGIN:VCALENDAR
PRODID:-//eluceo/ical//2.0/EN
VERSION:2.0
CALSCALE:GREGORIAN
BEGIN:VEVENT
UID:75ed68287e0c8fb953f6283425a5248e
DTSTAMP:20260420T065127Z
SUMMARY:A Concert Celebrating the Jews of Greece
DESCRIPTION:Jewish Federation of Greater Portland\nCommunity Calendar\nhttp
 s://jewishportland.org/community-calendar/a-concert-celebrating-the-jews-o
 f-greece-1700081472\n\nJoin HACCM for a special performance\, “A Concert
  Celebrating the Jews of Greece“\, performed by the Greek Chamber Music 
 Project (GCMP). The GCMP presents a powerful program celebrating the Sepha
 rdic Jews of Greece and the broader Mediterranean. The Sephardim have a lo
 ng history in Greece\, with musical traditions that are woven deep into th
 e fabric of the region. Led by Ellie Falaris Ganelin on flute\, the GCMP i
 s pleased to collaborate with Sarah Aroeste who sings in Ladino\, the Jude
 o-Spani...
DTSTART;TZID=America/Los_Angeles:20231130T183000
DTEND;TZID=America/Los_Angeles:20231130T213000
END:VEVENT
END:VCALENDAR
