BEGIN:VCALENDAR
PRODID:-//eluceo/ical//2.0/EN
VERSION:2.0
CALSCALE:GREGORIAN
BEGIN:VEVENT
UID:d0b2629b7fc74b17e22b6048788d6ce7
DTSTAMP:20260424T205410Z
SUMMARY:Spring Family Camp
DESCRIPTION:Jewish Federation of Greater Portland\nCommunity Calendar\nhttp
 s://jewishportland.org/community-calendar/SpringFamilyCamp2023\n\nMay 5-7\
 , 2023\nSpring Family Camp\n\nGet outside and explore BB Camp with your fa
 mily and friends! Come for the weekend and enjoy various programming for f
 amilies of all ages. Perhaps your family is up for a thrilling adventure d
 own our zip line? Maybe you want to relax and go swimming at the pool? Fam
 ilies can also do arts & crafts\, games\, canoeing\, and kayaking all whil
 e building friendships for life! \n\nMore info and registration at https:
 //bbcamp.org/family-camp/
DTSTART;TZID=America/Los_Angeles:20230505T000000
DTEND;TZID=America/Los_Angeles:20230507T235959
END:VEVENT
END:VCALENDAR
