BEGIN:VCALENDAR
PRODID:-//eluceo/ical//2.0/EN
VERSION:2.0
CALSCALE:GREGORIAN
BEGIN:VEVENT
UID:5a11d714400332b427bf939da8f83b06
DTSTAMP:20260419T141606Z
SUMMARY:2024 Portland Jewish Film Festival
DESCRIPTION:Jewish Federation of Greater Portland\nCommunity Calendar\nhttp
 s://jewishportland.org/community-calendar/2024-portland-jewish-film-festiv
 al-1700594855\n\nOJMCHE is proud to present the Portland Jewish Film Festi
 val 2024. Plan to join us for screenings of five new full-length films and
  two selected shorts that explore the complexity\, history\, and joy of Je
 wish life. This year’s festival spans five days: 7pm evening screenings 
 are on Tuesday\, January 9\; Wednesday\, January 10\; Thursday\, January 1
 1\; and Saturday\, January 13\, with a final matinee at 2pm on Sunday\, Ja
 nuary 14. The films are all new releases that have been featured at major 
 Jewish Film ...
DTSTART;TZID=America/Los_Angeles:20240109T190000
DTEND;TZID=America/Los_Angeles:20240109T210000
END:VEVENT
END:VCALENDAR
