BEGIN:VCALENDAR
PRODID:-//eluceo/ical//2.0/EN
VERSION:2.0
CALSCALE:GREGORIAN
BEGIN:VEVENT
UID:363f96e1ded904863cdd78bb5a740498
DTSTAMP:20260421T100126Z
SUMMARY:17th Annual Winter Sephardic Film Festival
DESCRIPTION:Jewish Federation of Greater Portland\nCommunity Calendar\nhttp
 s://jewishportland.org/community-calendar/17th-annual-winter-sephardic-fil
 m-festival-1700681241\n\nCome together every second Tuesday from January t
 o April for our 17th Annual Winter Sephardic Film Festival. Everyone is we
 lcome\, and admission is free. Join us for delightful Sephardic desserts a
 nd engaging discussions following each film!\n\nTo see a full listing of d
 ates and films please visit our website: https://ahavathachimpdx.weebly.co
 m/winter-film-series.html\n\nCo-Sponsors: Lee & Sharon Cordova\, Renee Fer
 rera\, Eve Stern & Les Gutfreund\, Richard & Judi Matza\, Albert\, Julie\,
  Shawn &...
DTSTART;TZID=America/Los_Angeles:20240312T190000
DTEND;TZID=America/Los_Angeles:20240312T210000
END:VEVENT
END:VCALENDAR
