BEGIN:VCALENDAR
PRODID:-//eluceo/ical//2.0/EN
VERSION:2.0
CALSCALE:GREGORIAN
BEGIN:VEVENT
UID:7b0ffbb31b2c0a6f8ca7d3ffe1f690c4
DTSTAMP:20260422T082505Z
SUMMARY:10th Annual Shofar in the Park - Wilshire Park
DESCRIPTION:Jewish Federation of Greater Portland\nCommunity Calendar\nhttp
 s://jewishportland.org/community-calendar/10-annual-shofar-in-the-park---w
 ilshire-park-1692824206\n\nSunday\, September 17\, at 4:30 PM\nWilshire Pa
 rk 4116 NE 33rd Ave\n\nIn honor of Rosh Hashanah\, Chabad of Northeast Por
 tland invites you to gather with neighbors and friends for the 10th annual
  Shofar in the Park.\n\nMark the Jewish new year with meaning and melody.\
 n\nRSVP: www.jewishnortheast.com/shofarpark
DTSTART;TZID=America/Los_Angeles:20230917T163000
DTEND;TZID=America/Los_Angeles:20230917T183000
END:VEVENT
END:VCALENDAR
